BEGIN:VCALENDAR
VERSION:2.0
PRODID:-//hacksw/handcal//NONSGML v1.0//EN
CALSCALE:GREGORIAN
BEGIN:VEVENT
DTSTART:20180422T050000Z
DTEND:20180422T050000Z
UID:e18742
DTSTAMP:20260420T050043Z
LOCATION:The David Lopatie Conference Centre
DESCRIPTION:The 31th meeting of the ISRAELI SOCIETY FOR MASS SPECTROMETRY
SUMMARY:The 31th meeting of the ISRAELI SOCIETY FOR MASS SPECTROMETRY
END:VEVENT
END:VCALENDAR