BEGIN:VCALENDAR
VERSION:2.0
PRODID:-//hacksw/handcal//NONSGML v1.0//EN
CALSCALE:GREGORIAN
BEGIN:VEVENT
DTSTART:20171221T083000Z
DTEND:20171221T100000Z
UID:e18743
DTSTAMP:20260421T114646Z
LOCATION:Gerhard M.J. Schmidt Lecture Hall
DESCRIPTION:"Gender in practice: the user’s guide" 
SUMMARY:"Gender in practice: the user’s guide" 
END:VEVENT
END:VCALENDAR