BEGIN:VCALENDAR
VERSION:2.0
PRODID:-//hacksw/handcal//NONSGML v1.0//EN
CALSCALE:GREGORIAN
BEGIN:VEVENT
DTSTART:20171219T110000Z
DTEND:20171219T120000Z
UID:e18748
DTSTAMP:20260422T151327Z
LOCATION:Helen and Milton A. Kimmelman Building
DESCRIPTION:"How changes to the cellular environment modulate protein structure\, function\, and interaction"
SUMMARY:"How changes to the cellular environment modulate protein structure\, function\, and interaction"
END:VEVENT
END:VCALENDAR