BEGIN:VCALENDAR
VERSION:2.0
PRODID:-//hacksw/handcal//NONSGML v1.0//EN
CALSCALE:GREGORIAN
BEGIN:VEVENT
DTSTART:20171219T073000Z
DTEND:20171219T080000Z
UID:e18757
DTSTAMP:20260421T114617Z
LOCATION:Nella and Leon Benoziyo Building for Biological Sciences
DESCRIPTION:T-cell immune suppression by the cytoplasmic tail of the HIV gp41 fusion protein 
SUMMARY:T-cell immune suppression by the cytoplasmic tail of the HIV gp41 fusion protein 
END:VEVENT
END:VCALENDAR