BEGIN:VCALENDAR
VERSION:2.0
PRODID:-//hacksw/handcal//NONSGML v1.0//EN
CALSCALE:GREGORIAN
BEGIN:VEVENT
DTSTART:20171219T070000Z
DTEND:20171219T073000Z
UID:e18758
DTSTAMP:20260421T235413Z
LOCATION:Nella and Leon Benoziyo Building for Biological Sciences
DESCRIPTION:The control on Phosphatidylserine exposure during axonal degeneration
SUMMARY:The control on Phosphatidylserine exposure during axonal degeneration
END:VEVENT
END:VCALENDAR