BEGIN:VCALENDAR
VERSION:2.0
PRODID:-//hacksw/handcal//NONSGML v1.0//EN
CALSCALE:GREGORIAN
BEGIN:VEVENT
DTSTART:20180109T103000Z
DTEND:20180109T103000Z
UID:e18766
DTSTAMP:20260421T085240Z
LOCATION:Arthur and Rochelle Belfer Building for Biomedical Research
DESCRIPTION:Perception and computation in cellular signaling pathways
SUMMARY:Perception and computation in cellular signaling pathways
END:VEVENT
END:VCALENDAR