BEGIN:VCALENDAR
VERSION:2.0
PRODID:-//hacksw/handcal//NONSGML v1.0//EN
CALSCALE:GREGORIAN
BEGIN:VEVENT
DTSTART:20171224T100000Z
DTEND:20171224T100000Z
UID:e18767
DTSTAMP:20260419T185624Z
LOCATION:Gerhard M.J. Schmidt Lecture Hall
DESCRIPTION:Looking for the right approach of renewable energy utilization
SUMMARY:Looking for the right approach of renewable energy utilization
END:VEVENT
END:VCALENDAR