BEGIN:VCALENDAR
VERSION:2.0
PRODID:-//hacksw/handcal//NONSGML v1.0//EN
CALSCALE:GREGORIAN
BEGIN:VEVENT
DTSTART:20171211T120000Z
DTEND:20171211T130000Z
UID:e18782
DTSTAMP:20260421T085334Z
LOCATION:Dolfi and Lola Ebner Auditorium
DESCRIPTION:The Braginsky Center for the Interface between the Sciences and the Humanities
SUMMARY:The Braginsky Center for the Interface between the Sciences and the Humanities
END:VEVENT
END:VCALENDAR