BEGIN:VCALENDAR
VERSION:2.0
PRODID:-//hacksw/handcal//NONSGML v1.0//EN
CALSCALE:GREGORIAN
BEGIN:VEVENT
DTSTART:20171224T053000Z
DTEND:20171224T103000Z
UID:e18790
DTSTAMP:20260421T235340Z
LOCATION:The David Lopatie Conference Centre
DESCRIPTION:From perception to action: imaging human brain function
SUMMARY:From perception to action: imaging human brain function
END:VEVENT
END:VCALENDAR