BEGIN:VCALENDAR
VERSION:2.0
PRODID:-//hacksw/handcal//NONSGML v1.0//EN
CALSCALE:GREGORIAN
BEGIN:VEVENT
DTSTART:20171214T110000Z
DTEND:20171214T120000Z
UID:e18816
DTSTAMP:20260421T085425Z
LOCATION:Max and Lillian Candiotty Building
DESCRIPTION:Insights into transcription initiation from single molecule experiments
SUMMARY:Insights into transcription initiation from single molecule experiments
END:VEVENT
END:VCALENDAR