BEGIN:VCALENDAR
VERSION:2.0
PRODID:-//hacksw/handcal//NONSGML v1.0//EN
CALSCALE:GREGORIAN
BEGIN:VEVENT
DTSTART:20171213T100000Z
DTEND:20171213T100000Z
UID:e18831
DTSTAMP:20260424T223812Z
LOCATION:Edna and K.B. Weissman Building of Physical Sciences
DESCRIPTION:“A direct calculation of the lifetime of false vacua”
SUMMARY:“A direct calculation of the lifetime of false vacua”
END:VEVENT
END:VCALENDAR