BEGIN:VCALENDAR
VERSION:2.0
PRODID:-//hacksw/handcal//NONSGML v1.0//EN
CALSCALE:GREGORIAN
BEGIN:VEVENT
DTSTART:20171219T083000Z
DTEND:20171219T083000Z
UID:e18845
DTSTAMP:20260422T041857Z
LOCATION:Nella and Leon Benoziyo Building for Biological Sciences
DESCRIPTION:Bacteria and the future of agriculture: from sequence to function
SUMMARY:Bacteria and the future of agriculture: from sequence to function
END:VEVENT
END:VCALENDAR