BEGIN:VCALENDAR
VERSION:2.0
PRODID:-//hacksw/handcal//NONSGML v1.0//EN
CALSCALE:GREGORIAN
BEGIN:VEVENT
DTSTART:20171219T073000Z
DTEND:20171219T073000Z
UID:e18859
DTSTAMP:20260421T235408Z
LOCATION:
DESCRIPTION: SPACE OF FIELD THEORIES\, UV COMPLETENESS\, AND INTEGRABILITY 
SUMMARY: SPACE OF FIELD THEORIES\, UV COMPLETENESS\, AND INTEGRABILITY 
END:VEVENT
END:VCALENDAR