BEGIN:VCALENDAR
VERSION:2.0
PRODID:-//hacksw/handcal//NONSGML v1.0//EN
CALSCALE:GREGORIAN
BEGIN:VEVENT
DTSTART:20171219T090000Z
DTEND:20171219T090000Z
UID:e18860
DTSTAMP:20260421T131026Z
LOCATION:
DESCRIPTION: AMPLITUDES AND HIDDEN SYMMETRIES IN N=2 CHERN-SIMONS MATTER THEORY
SUMMARY: AMPLITUDES AND HIDDEN SYMMETRIES IN N=2 CHERN-SIMONS MATTER THEORY
END:VEVENT
END:VCALENDAR