BEGIN:VCALENDAR
VERSION:2.0
PRODID:-//hacksw/handcal//NONSGML v1.0//EN
CALSCALE:GREGORIAN
BEGIN:VEVENT
DTSTART:20180225T050000Z
DTEND:20180227T050000Z
UID:e18861
DTSTAMP:20260419T231628Z
LOCATION:The David Lopatie Conference Centre
DESCRIPTION:Optimizations and trade-offs in cellular growth and survial
SUMMARY:Optimizations and trade-offs in cellular growth and survial
END:VEVENT
END:VCALENDAR