BEGIN:VCALENDAR
VERSION:2.0
PRODID:-//hacksw/handcal//NONSGML v1.0//EN
CALSCALE:GREGORIAN
BEGIN:VEVENT
DTSTART:20180313T070000Z
DTEND:20180313T080000Z
UID:e18926
DTSTAMP:20260420T054929Z
LOCATION:Camelia Botnar Building
DESCRIPTION:Fusion mediated by viral and developmental fusogens
SUMMARY:Fusion mediated by viral and developmental fusogens
END:VEVENT
END:VCALENDAR