BEGIN:VCALENDAR
VERSION:2.0
PRODID:-//hacksw/handcal//NONSGML v1.0//EN
CALSCALE:GREGORIAN
BEGIN:VEVENT
DTSTART:20180211T060000Z
DTEND:20180211T080000Z
UID:e18952
DTSTAMP:20260420T122353Z
LOCATION:Max and Lillian Candiotty Building
DESCRIPTION:The bacterial pathogen Listeria monocytogenes: towards a complete picture of its physiology and pathogenesis
SUMMARY:The bacterial pathogen Listeria monocytogenes: towards a complete picture of its physiology and pathogenesis
END:VEVENT
END:VCALENDAR