BEGIN:VCALENDAR
VERSION:2.0
PRODID:-//hacksw/handcal//NONSGML v1.0//EN
CALSCALE:GREGORIAN
BEGIN:VEVENT
DTSTART:20180225T120000Z
DTEND:20180225T130000Z
UID:e18958
DTSTAMP:20260419T231653Z
LOCATION:Camelia Botnar Building
DESCRIPTION:Quantifying nuclear morphology in embryonic growth plates
SUMMARY:Quantifying nuclear morphology in embryonic growth plates
END:VEVENT
END:VCALENDAR