BEGIN:VCALENDAR
VERSION:2.0
PRODID:-//hacksw/handcal//NONSGML v1.0//EN
CALSCALE:GREGORIAN
BEGIN:VEVENT
DTSTART:20180418T080000Z
DTEND:20180418T084500Z
UID:e18964
DTSTAMP:20260421T102942Z
LOCATION:Helen and Milton A. Kimmelman Building
DESCRIPTION:Ceremony marking Remembrance Day for Israel’s Fallen Soldiers and Victims of Terrorism
SUMMARY:Ceremony marking Remembrance Day for Israel’s Fallen Soldiers and Victims of Terrorism
END:VEVENT
END:VCALENDAR