BEGIN:VCALENDAR
VERSION:2.0
PRODID:-//hacksw/handcal//NONSGML v1.0//EN
CALSCALE:GREGORIAN
BEGIN:VEVENT
DTSTART:20181007T050000Z
DTEND:20181011T050000Z
UID:e18966
DTSTAMP:20260419T140650Z
LOCATION:Gerhard M.J. Schmidt Lecture Hall
DESCRIPTION:WIS Summer School: Introduction to Biological Physics for Students of Science and Engineering
SUMMARY:WIS Summer School: Introduction to Biological Physics for Students of Science and Engineering
END:VEVENT
END:VCALENDAR