BEGIN:VCALENDAR
VERSION:2.0
PRODID:-//hacksw/handcal//NONSGML v1.0//EN
CALSCALE:GREGORIAN
BEGIN:VEVENT
DTSTART:20180208T163000Z
DTEND:20180208T163000Z
UID:e18972
DTSTAMP:20260420T065125Z
LOCATION:Michael Sela Auditorium
DESCRIPTION:Jerusalem Ballet - Gala
SUMMARY:Jerusalem Ballet - Gala
END:VEVENT
END:VCALENDAR