BEGIN:VCALENDAR
VERSION:2.0
PRODID:-//hacksw/handcal//NONSGML v1.0//EN
CALSCALE:GREGORIAN
BEGIN:VEVENT
DTSTART:20180306T081500Z
DTEND:20180306T093000Z
UID:e18980
DTSTAMP:20260420T081017Z
LOCATION:Wolfson Building for Biological Research
DESCRIPTION:Students Seminar
SUMMARY:Students Seminar
END:VEVENT
END:VCALENDAR