BEGIN:VCALENDAR
VERSION:2.0
PRODID:-//hacksw/handcal//NONSGML v1.0//EN
CALSCALE:GREGORIAN
BEGIN:VEVENT
DTSTART:20180207T080000Z
DTEND:20180207T093000Z
UID:e19008
DTSTAMP:20260420T195042Z
LOCATION:Helen and Milton A. Kimmelman Building
DESCRIPTION:Engineering more potent crystalline insecticides: science\, ethical quandaries and alternative facts
SUMMARY:Engineering more potent crystalline insecticides: science\, ethical quandaries and alternative facts
END:VEVENT
END:VCALENDAR