BEGIN:VCALENDAR
VERSION:2.0
PRODID:-//hacksw/handcal//NONSGML v1.0//EN
CALSCALE:GREGORIAN
BEGIN:VEVENT
DTSTART:20180416T080000Z
DTEND:20180416T090000Z
UID:e19013
DTSTAMP:20260420T195042Z
LOCATION:Dolfi and Lola Ebner Auditorium
DESCRIPTION:Life Science Colloquium
SUMMARY:Life Science Colloquium
END:VEVENT
END:VCALENDAR