BEGIN:VCALENDAR
VERSION:2.0
PRODID:-//hacksw/handcal//NONSGML v1.0//EN
CALSCALE:GREGORIAN
BEGIN:VEVENT
DTSTART:20180327T110000Z
DTEND:20180327T120000Z
UID:e19020
DTSTAMP:20260420T005427Z
LOCATION:Helen and Milton A. Kimmelman Building
DESCRIPTION:"Myosin 19 is enzymatically adapted to transport Mitochondria “
SUMMARY:"Myosin 19 is enzymatically adapted to transport Mitochondria “
END:VEVENT
END:VCALENDAR