BEGIN:VCALENDAR
VERSION:2.0
PRODID:-//hacksw/handcal//NONSGML v1.0//EN
CALSCALE:GREGORIAN
BEGIN:VEVENT
DTSTART:20190415T080000Z
DTEND:20190415T090000Z
UID:e19023
DTSTAMP:20260420T115949Z
LOCATION:Wolfson Building for Biological Research
DESCRIPTION:Life Science Colloquium
SUMMARY:Life Science Colloquium
END:VEVENT
END:VCALENDAR