BEGIN:VCALENDAR
VERSION:2.0
PRODID:-//hacksw/handcal//NONSGML v1.0//EN
CALSCALE:GREGORIAN
BEGIN:VEVENT
DTSTART:20181015T080000Z
DTEND:20181015T090000Z
UID:e19025
DTSTAMP:20260421T102930Z
LOCATION:Dolfi and Lola Ebner Auditorium
DESCRIPTION:Life Science Colloquium
SUMMARY:Life Science Colloquium
END:VEVENT
END:VCALENDAR