BEGIN:VCALENDAR
VERSION:2.0
PRODID:-//hacksw/handcal//NONSGML v1.0//EN
CALSCALE:GREGORIAN
BEGIN:VEVENT
DTSTART:20180212T111500Z
DTEND:20180212T111500Z
UID:e19026
DTSTAMP:20260420T081008Z
LOCATION:Edna and K.B. Weissman Building of Physical Sciences
DESCRIPTION:The onset of bacterial swarming: 
SUMMARY:The onset of bacterial swarming: 
END:VEVENT
END:VCALENDAR