BEGIN:VCALENDAR
VERSION:2.0
PRODID:-//hacksw/handcal//NONSGML v1.0//EN
CALSCALE:GREGORIAN
BEGIN:VEVENT
DTSTART:20180212T110000Z
DTEND:20180212T120000Z
UID:e19029
DTSTAMP:20260420T165248Z
LOCATION:Perlman Chemical Sciences Building
DESCRIPTION:Atom-by-atom build-up and spectroscopy of artificial 2-D lattices. What is the relevance for real materials
SUMMARY:Atom-by-atom build-up and spectroscopy of artificial 2-D lattices. What is the relevance for real materials
END:VEVENT
END:VCALENDAR