BEGIN:VCALENDAR
VERSION:2.0
PRODID:-//hacksw/handcal//NONSGML v1.0//EN
CALSCALE:GREGORIAN
BEGIN:VEVENT
DTSTART:20180212T080000Z
DTEND:20180212T090000Z
UID:e19034
DTSTAMP:20260420T065139Z
LOCATION:Helen and Milton A. Kimmelman Building
DESCRIPTION:Lewis acid promoted copper-catalyzed synthesis of functional molecules
SUMMARY:Lewis acid promoted copper-catalyzed synthesis of functional molecules
END:VEVENT
END:VCALENDAR