BEGIN:VCALENDAR
VERSION:2.0
PRODID:-//hacksw/handcal//NONSGML v1.0//EN
CALSCALE:GREGORIAN
BEGIN:VEVENT
DTSTART:20180227T081500Z
DTEND:20180227T093000Z
UID:e19042
DTSTAMP:20260419T140651Z
LOCATION:Jacob Ziskind Building
DESCRIPTION:Algebraic Geometry and Representation Theory Seminar
SUMMARY:Algebraic Geometry and Representation Theory Seminar
END:VEVENT
END:VCALENDAR