BEGIN:VCALENDAR
VERSION:2.0
PRODID:-//hacksw/handcal//NONSGML v1.0//EN
CALSCALE:GREGORIAN
BEGIN:VEVENT
DTSTART:20180226T060000Z
DTEND:20180226T080000Z
UID:e19070
DTSTAMP:20260419T185425Z
LOCATION:Edna and K.B. Weissman Building of Physical Sciences
DESCRIPTION:Introduction to New CAS Interface - SciFinder-n
SUMMARY:Introduction to New CAS Interface - SciFinder-n
END:VEVENT
END:VCALENDAR