BEGIN:VCALENDAR
VERSION:2.0
PRODID:-//hacksw/handcal//NONSGML v1.0//EN
CALSCALE:GREGORIAN
BEGIN:VEVENT
DTSTART:20180227T093000Z
DTEND:20180227T093000Z
UID:e19108
DTSTAMP:20260419T140655Z
LOCATION:Gerhard M.J. Schmidt Lecture Hall
DESCRIPTION:Role of pituicytes\, the resident astroglia  of the neurohypophysis in neuro-vascular development
SUMMARY:Role of pituicytes\, the resident astroglia  of the neurohypophysis in neuro-vascular development
END:VEVENT
END:VCALENDAR