BEGIN:VCALENDAR
VERSION:2.0
PRODID:-//hacksw/handcal//NONSGML v1.0//EN
CALSCALE:GREGORIAN
BEGIN:VEVENT
DTSTART:20180314T120000Z
DTEND:20180314T120000Z
UID:e19110
DTSTAMP:20260420T054938Z
LOCATION:Perlman Chemical Sciences Building
DESCRIPTION:Chemical and Biological Physics dept Seminar
SUMMARY:Chemical and Biological Physics dept Seminar
END:VEVENT
END:VCALENDAR