BEGIN:VCALENDAR
VERSION:2.0
PRODID:-//hacksw/handcal//NONSGML v1.0//EN
CALSCALE:GREGORIAN
BEGIN:VEVENT
DTSTART:20180308T083000Z
DTEND:20180308T083000Z
UID:e19116
DTSTAMP:20260421T224339Z
LOCATION:Gerhard M.J. Schmidt Lecture Hall
DESCRIPTION:From synaptic plasticity to primate cognition
SUMMARY:From synaptic plasticity to primate cognition
END:VEVENT
END:VCALENDAR