BEGIN:VCALENDAR
VERSION:2.0
PRODID:-//hacksw/handcal//NONSGML v1.0//EN
CALSCALE:GREGORIAN
BEGIN:VEVENT
DTSTART:20180305T111500Z
DTEND:20180305T111500Z
UID:e19120
DTSTAMP:20260419T185611Z
LOCATION:
DESCRIPTION:Time's Arrow\, Rare Events and the Second Law of Thermodynamics
SUMMARY:Time's Arrow\, Rare Events and the Second Law of Thermodynamics
END:VEVENT
END:VCALENDAR