BEGIN:VCALENDAR
VERSION:2.0
PRODID:-//hacksw/handcal//NONSGML v1.0//EN
CALSCALE:GREGORIAN
BEGIN:VEVENT
DTSTART:20180306T110000Z
DTEND:20180306T120000Z
UID:e19132
DTSTAMP:20260420T010335Z
LOCATION:Helen and Milton A. Kimmelman Building
DESCRIPTION:“Dynamic recognition in protein-DNA complexes studied by simulations and experiments”
SUMMARY:“Dynamic recognition in protein-DNA complexes studied by simulations and experiments”
END:VEVENT
END:VCALENDAR