BEGIN:VCALENDAR
VERSION:2.0
PRODID:-//hacksw/handcal//NONSGML v1.0//EN
CALSCALE:GREGORIAN
BEGIN:VEVENT
DTSTART:20180305T080000Z
DTEND:20180305T090000Z
UID:e19144
DTSTAMP:20260419T185616Z
LOCATION:Perlman Chemical Sciences Building
DESCRIPTION:Electron-beam-induced current measurements of thin-film solar cells: accessible materials/device properties and pitfalls to be avoided
SUMMARY:Electron-beam-induced current measurements of thin-film solar cells: accessible materials/device properties and pitfalls to be avoided
END:VEVENT
END:VCALENDAR