BEGIN:VCALENDAR
VERSION:2.0
PRODID:-//hacksw/handcal//NONSGML v1.0//EN
CALSCALE:GREGORIAN
BEGIN:VEVENT
DTSTART:20180311T080000Z
DTEND:20180311T090000Z
UID:e19146
DTSTAMP:20260419T185434Z
LOCATION:Perlman Chemical Sciences Building
DESCRIPTION:1\, 2\, 3 and 4-dimensional Cryo-EM of soft colloids
SUMMARY:1\, 2\, 3 and 4-dimensional Cryo-EM of soft colloids
END:VEVENT
END:VCALENDAR