BEGIN:VCALENDAR
VERSION:2.0
PRODID:-//hacksw/handcal//NONSGML v1.0//EN
CALSCALE:GREGORIAN
BEGIN:VEVENT
DTSTART:20180327T100000Z
DTEND:20180327T100000Z
UID:e19152
DTSTAMP:20260420T010335Z
LOCATION:Camelia Botnar Building
DESCRIPTION:Barcoding evolution
SUMMARY:Barcoding evolution
END:VEVENT
END:VCALENDAR