BEGIN:VCALENDAR
VERSION:2.0
PRODID:-//hacksw/handcal//NONSGML v1.0//EN
CALSCALE:GREGORIAN
BEGIN:VEVENT
DTSTART:20180529T100000Z
DTEND:20180529T100000Z
UID:e19154
DTSTAMP:20260419T193526Z
LOCATION:Arthur and Rochelle Belfer Building for Biomedical Research
DESCRIPTION:Contrary to Dogma:	Tau is not a stabilizer of microtubules in the axon
SUMMARY:Contrary to Dogma:	Tau is not a stabilizer of microtubules in the axon
END:VEVENT
END:VCALENDAR