BEGIN:VCALENDAR
VERSION:2.0
PRODID:-//hacksw/handcal//NONSGML v1.0//EN
CALSCALE:GREGORIAN
BEGIN:VEVENT
DTSTART:20190403T050000Z
DTEND:20190404T050000Z
UID:e19162
DTSTAMP:20260422T142751Z
LOCATION:The David Lopatie Conference Centre
DESCRIPTION:Metazoan Evolution: from early multicellularity to humans
SUMMARY:Metazoan Evolution: from early multicellularity to humans
END:VEVENT
END:VCALENDAR