BEGIN:VCALENDAR
VERSION:2.0
PRODID:-//hacksw/handcal//NONSGML v1.0//EN
CALSCALE:GREGORIAN
BEGIN:VEVENT
DTSTART:20180429T100000Z
DTEND:20180429T110000Z
UID:e19166
DTSTAMP:20260419T193525Z
LOCATION:Gerhard M.J. Schmidt Lecture Hall
DESCRIPTION:The Israeli Electricity Market at a crossroads and its implications for renewable energies
SUMMARY:The Israeli Electricity Market at a crossroads and its implications for renewable energies
END:VEVENT
END:VCALENDAR