BEGIN:VCALENDAR
VERSION:2.0
PRODID:-//hacksw/handcal//NONSGML v1.0//EN
CALSCALE:GREGORIAN
BEGIN:VEVENT
DTSTART:20180424T070000Z
DTEND:20180424T073000Z
UID:e19210
DTSTAMP:20260420T010341Z
LOCATION:Nella and Leon Benoziyo Building for Biological Sciences
DESCRIPTION:Computational design of new and improved enzymes 
SUMMARY:Computational design of new and improved enzymes 
END:VEVENT
END:VCALENDAR