BEGIN:VCALENDAR
VERSION:2.0
PRODID:-//hacksw/handcal//NONSGML v1.0//EN
CALSCALE:GREGORIAN
BEGIN:VEVENT
DTSTART:20181111T050000Z
DTEND:20181116T050000Z
UID:e19232
DTSTAMP:20260419T140627Z
LOCATION:The David Lopatie Conference Centre
DESCRIPTION:Host-Pathogen Communication
SUMMARY:Host-Pathogen Communication
END:VEVENT
END:VCALENDAR