BEGIN:VCALENDAR
VERSION:2.0
PRODID:-//hacksw/handcal//NONSGML v1.0//EN
CALSCALE:GREGORIAN
BEGIN:VEVENT
DTSTART:20190205T050000Z
DTEND:20190207T050000Z
UID:e19250
DTSTAMP:20260419T100526Z
LOCATION:The David Lopatie Conference Centre
DESCRIPTION:Soft semiconductors
SUMMARY:Soft semiconductors
END:VEVENT
END:VCALENDAR