BEGIN:VCALENDAR
VERSION:2.0
PRODID:-//hacksw/handcal//NONSGML v1.0//EN
CALSCALE:GREGORIAN
BEGIN:VEVENT
DTSTART:20180420T063000Z
DTEND:20180420T063000Z
UID:e19254
DTSTAMP:20260421T085327Z
LOCATION:Helen and Milton A. Kimmelman Building
DESCRIPTION:: “Structure of the ribosome from the pathogen Staphylococcus aureus and its’ complex various antibacterial compounds”
SUMMARY:: “Structure of the ribosome from the pathogen Staphylococcus aureus and its’ complex various antibacterial compounds”
END:VEVENT
END:VCALENDAR