BEGIN:VCALENDAR
VERSION:2.0
PRODID:-//hacksw/handcal//NONSGML v1.0//EN
CALSCALE:GREGORIAN
BEGIN:VEVENT
DTSTART:20180424T080000Z
DTEND:20180424T093000Z
UID:e19304
DTSTAMP:20260420T050223Z
LOCATION:Helen and Milton A. Kimmelman Building
DESCRIPTION:Gel Networks As Reaction Media: Performing Air-Sensitive Photoredox Catalysis Under Aerobic Conditions
SUMMARY:Gel Networks As Reaction Media: Performing Air-Sensitive Photoredox Catalysis Under Aerobic Conditions
END:VEVENT
END:VCALENDAR