BEGIN:VCALENDAR
VERSION:2.0
PRODID:-//hacksw/handcal//NONSGML v1.0//EN
CALSCALE:GREGORIAN
BEGIN:VEVENT
DTSTART:20180425T080000Z
DTEND:20180425T093000Z
UID:e19306
DTSTAMP:20260420T120001Z
LOCATION:Helen and Milton A. Kimmelman Building
DESCRIPTION:Special Seminar:Tightly Linking Chemistry and Biology through Covalent Bonds
SUMMARY:Special Seminar:Tightly Linking Chemistry and Biology through Covalent Bonds
END:VEVENT
END:VCALENDAR