BEGIN:VCALENDAR
VERSION:2.0
PRODID:-//hacksw/handcal//NONSGML v1.0//EN
CALSCALE:GREGORIAN
BEGIN:VEVENT
DTSTART:19691231T160000Z
DTEND:19691231T160000Z
UID:e19324
DTSTAMP:20260422T151349Z
LOCATION:
DESCRIPTION:SAAC Meeting 2020
SUMMARY:SAAC Meeting 2020
END:VEVENT
END:VCALENDAR